BEGIN:VCALENDAR
VERSION:2.0
PRODID:-//Apocalyptica//NONSGML Apocalyptica//EN
METHOD:PUBLISH
BEGIN:VEVENT
UID:20260423T081600Z-1889776108-www.apocalyptica.com
URL:https://www.apocalyptica.com/dates/apocalyptica-dates-05-aug-2022-fi-sa-20--609-.html
DTSTAMP:20260423T081600Z
DTSTART:20220805T180000Z
DTEND:20220805T180000Z
SUMMARY:APOCALYPTICA | Dates | 05 Aug 2022 (FI) Savonlinna\, Olavinlinna Boxing Night
DESCRIPTION:For tickets and more Apocalyptica-dates check https://www.apocalyptica.com/dates/
LOCATION:Olavinlinna Boxing Night\, Savonlinna\, Finland
END:VEVENT
END:VCALENDAR
