BEGIN:VCALENDAR
VERSION:2.0
PRODID:-//Apocalyptica//NONSGML Apocalyptica//EN
METHOD:PUBLISH
BEGIN:VEVENT
UID:20260423T081631Z-1345837294-www.apocalyptica.com
URL:https://www.apocalyptica.com/dates/apocalyptica-dates-19-apr-2022-us-se-20--620-.html
DTSTAMP:20260423T081631Z
DTSTART:20220419T180000Z
DTEND:20220419T180000Z
SUMMARY:APOCALYPTICA | Dates | 19 Apr 2022 (US) Seattle\, WA\, Showbox Sodo
DESCRIPTION:For tickets and more Apocalyptica-dates check https://www.apocalyptica.com/dates/
LOCATION:Showbox Sodo\, Seattle\, WA\, United States of America
END:VEVENT
END:VCALENDAR
