BEGIN:VCALENDAR
VERSION:2.0
PRODID:-//Apocalyptica//NONSGML Apocalyptica//EN
METHOD:PUBLISH
BEGIN:VEVENT
UID:20260423T081801Z-1000081342-www.apocalyptica.com
URL:https://www.apocalyptica.com/dates/apocalyptica-dates-23-apr-2022-ca-ed-20--622-.html
DTSTAMP:20260423T081801Z
DTSTART:20220423T180000Z
DTEND:20220423T180000Z
SUMMARY:APOCALYPTICA | Dates | 23 Apr 2022 (CA) Edmonton\, AB\, Midway
DESCRIPTION:For tickets and more Apocalyptica-dates check https://www.apocalyptica.com/dates/
LOCATION:Midway\, Edmonton\, AB\, Canada
END:VEVENT
END:VCALENDAR
