BEGIN:VCALENDAR
VERSION:2.0
PRODID:-//Apocalyptica//NONSGML Apocalyptica//EN
METHOD:PUBLISH
BEGIN:VEVENT
UID:20260423T081611Z-146789990-www.apocalyptica.com
URL:https://www.apocalyptica.com/dates/apocalyptica-dates-24-apr-2022-ca-ca-20--623-.html
DTSTAMP:20260423T081611Z
DTSTART:20220424T180000Z
DTEND:20220424T180000Z
SUMMARY:APOCALYPTICA | Dates | 24 Apr 2022 (CA) Calgary\, AB\, The Palace Theatre
DESCRIPTION:For tickets and more Apocalyptica-dates check https://www.apocalyptica.com/dates/
LOCATION:The Palace Theatre\, Calgary\, AB\, Canada
END:VEVENT
END:VCALENDAR
