BEGIN:VCALENDAR
VERSION:2.0
PRODID:-//Apocalyptica//NONSGML Apocalyptica//EN
METHOD:PUBLISH
BEGIN:VEVENT
UID:20260423T081558Z-790950683-www.apocalyptica.com
URL:https://www.apocalyptica.com/dates/apocalyptica-dates-10-feb-2023-es-ba-20--645-.html
DTSTAMP:20260423T081558Z
DTSTART:20230210T180000Z
DTEND:20230210T180000Z
SUMMARY:APOCALYPTICA | Dates | 10 Feb 2023 (ES) Barcelona\, Razzmatazz
DESCRIPTION:For tickets and more Apocalyptica-dates check https://www.apocalyptica.com/dates/
LOCATION:Razzmatazz\, Barcelona\, Spain
END:VEVENT
END:VCALENDAR
