BEGIN:VCALENDAR
VERSION:2.0
PRODID:-//Apocalyptica//NONSGML Apocalyptica//EN
METHOD:PUBLISH
BEGIN:VEVENT
UID:20260423T081612Z-18728339-www.apocalyptica.com
URL:https://www.apocalyptica.com/dates/apocalyptica-dates-18-mar-2023-ch-la-20--647-.html
DTSTAMP:20260423T081612Z
DTSTART:20230318T180000Z
DTEND:20230318T180000Z
SUMMARY:APOCALYPTICA | Dates | 18 Mar 2023 (CH) Lausanne\, Metropole
DESCRIPTION:The Epic Apocalypse Tour
LOCATION:Metropole\, Lausanne\, Switzerland
END:VEVENT
END:VCALENDAR
