BEGIN:VCALENDAR
VERSION:2.0
PRODID:-//Apocalyptica//NONSGML Apocalyptica//EN
METHOD:PUBLISH
BEGIN:VEVENT
UID:20260423T081727Z-2090627397-www.apocalyptica.com
URL:https://www.apocalyptica.com/dates/apocalyptica-dates-20-mar-2023-de-mu-20--651-.html
DTSTAMP:20260423T081727Z
DTSTART:20230320T180000Z
DTEND:20230320T180000Z
SUMMARY:APOCALYPTICA | Dates | 20 Mar 2023 (DE) Munich\, Tonhalle
DESCRIPTION:The Epic Apocalypse Tour
LOCATION:Tonhalle\, Munich\, Germany
END:VEVENT
END:VCALENDAR
