BEGIN:VCALENDAR
VERSION:2.0
PRODID:-//Apocalyptica//NONSGML Apocalyptica//EN
METHOD:PUBLISH
BEGIN:VEVENT
UID:20260423T081731Z-834153762-www.apocalyptica.com
URL:https://www.apocalyptica.com/dates/apocalyptica-dates-23-jan-2023-no-os-20--653-.html
DTSTAMP:20260423T081731Z
DTSTART:20230123T180000Z
DTEND:20230123T180000Z
SUMMARY:APOCALYPTICA | Dates | 23 Jan 2023 (NO) Oslo\, Sentrum
DESCRIPTION:The Epic Apocalypse Tour
LOCATION:Sentrum\, Oslo\, Norway
END:VEVENT
END:VCALENDAR
