BEGIN:VCALENDAR
VERSION:2.0
PRODID:-//Apocalyptica//NONSGML Apocalyptica//EN
METHOD:PUBLISH
BEGIN:VEVENT
UID:20260423T081755Z-533634698-www.apocalyptica.com
URL:https://www.apocalyptica.com/dates/apocalyptica-dates-25-jan-2023-dk-co-20--654-.html
DTSTAMP:20260423T081755Z
DTSTART:20230125T180000Z
DTEND:20230125T180000Z
SUMMARY:APOCALYPTICA | Dates | 25 Jan 2023 (DK) Copenhagen\, Amager Bio
DESCRIPTION:The Epic Apocalypse Tour
LOCATION:Amager Bio\, Copenhagen\, Denmark
END:VEVENT
END:VCALENDAR
