BEGIN:VCALENDAR
VERSION:2.0
PRODID:-//Apocalyptica//NONSGML Apocalyptica//EN
METHOD:PUBLISH
BEGIN:VEVENT
UID:20260423T081655Z-1379342678-www.apocalyptica.com
URL:https://www.apocalyptica.com/dates/apocalyptica-dates-07-feb-2023-fr-pa-20--661-.html
DTSTAMP:20260423T081655Z
DTSTART:20230207T180000Z
DTEND:20230207T180000Z
SUMMARY:APOCALYPTICA | Dates | 07 Feb 2023 (FR) Paris\, Zenith
DESCRIPTION:The Epic Apocalypse Tour
LOCATION:Zenith\, Paris\, France
END:VEVENT
END:VCALENDAR
