BEGIN:VCALENDAR
VERSION:2.0
PRODID:-//Apocalyptica//NONSGML Apocalyptica//EN
METHOD:PUBLISH
BEGIN:VEVENT
UID:20260423T081559Z-1238556006-www.apocalyptica.com
URL:https://www.apocalyptica.com/dates/apocalyptica-dates-04-feb-2023-gb-lo-20--663-.html
DTSTAMP:20260423T081559Z
DTSTART:20230204T180000Z
DTEND:20230204T180000Z
SUMMARY:APOCALYPTICA | Dates | 04 Feb 2023 (GB) London\, Roundhouse
DESCRIPTION:The Epic Apocalypse Tour
LOCATION:Roundhouse\, London\, United Kingdom
END:VEVENT
END:VCALENDAR
