BEGIN:VCALENDAR
VERSION:2.0
PRODID:-//Apocalyptica//NONSGML Apocalyptica//EN
METHOD:PUBLISH
BEGIN:VEVENT
UID:20260423T081731Z-794014685-www.apocalyptica.com
URL:https://www.apocalyptica.com/dates/apocalyptica-dates-30-jan-2023-gb-br-20--664-.html
DTSTAMP:20260423T081731Z
DTSTART:20230130T180000Z
DTEND:20230130T180000Z
SUMMARY:APOCALYPTICA | Dates | 30 Jan 2023 (GB) Bristol\, O2 Academy
DESCRIPTION:The Epic Apocalypse Tour
LOCATION:O2 Academy\, Bristol\, United Kingdom
END:VEVENT
END:VCALENDAR
