BEGIN:VCALENDAR
VERSION:2.0
PRODID:-//Apocalyptica//NONSGML Apocalyptica//EN
METHOD:PUBLISH
BEGIN:VEVENT
UID:20260423T081728Z-1046802814-www.apocalyptica.com
URL:https://www.apocalyptica.com/dates/apocalyptica-dates-03-feb-2023-gb-ma-20--666-.html
DTSTAMP:20260423T081728Z
DTSTART:20230203T180000Z
DTEND:20230203T180000Z
SUMMARY:APOCALYPTICA | Dates | 03 Feb 2023 (GB) Manchester\, Academy
DESCRIPTION:The Epic Apocalypse Tour
LOCATION:Academy\, Manchester\, United Kingdom
END:VEVENT
END:VCALENDAR
