BEGIN:VCALENDAR
VERSION:2.0
PRODID:-//Apocalyptica//NONSGML Apocalyptica//EN
METHOD:PUBLISH
BEGIN:VEVENT
UID:20260423T081730Z-1843761109-www.apocalyptica.com
URL:https://www.apocalyptica.com/dates/apocalyptica-dates-13-mar-2023-de-co-20--668-.html
DTSTAMP:20260423T081730Z
DTSTART:20230313T180000Z
DTEND:20230313T180000Z
SUMMARY:APOCALYPTICA | Dates | 13 Mar 2023 (DE) Cologne\, Carlswerk Victoria
DESCRIPTION:The Epic Apocalypse Tour
LOCATION:Carlswerk Victoria\, Cologne\, Germany
END:VEVENT
END:VCALENDAR
