BEGIN:VCALENDAR
VERSION:2.0
PRODID:-//Apocalyptica//NONSGML Apocalyptica//EN
METHOD:PUBLISH
BEGIN:VEVENT
UID:20260423T081910Z-952226650-www.apocalyptica.com
URL:https://www.apocalyptica.com/dates/apocalyptica-dates-14-mar-2023-de-wi-20--669-.html
DTSTAMP:20260423T081910Z
DTSTART:20230314T180000Z
DTEND:20230314T180000Z
SUMMARY:APOCALYPTICA | Dates | 14 Mar 2023 (DE) Wiesbaden\, Schlachthof
DESCRIPTION:The Epic Apocalypse Tour
LOCATION:Schlachthof\, Wiesbaden\, Germany
END:VEVENT
END:VCALENDAR
