BEGIN:VCALENDAR
VERSION:2.0
PRODID:-//Apocalyptica//NONSGML Apocalyptica//EN
METHOD:PUBLISH
BEGIN:VEVENT
UID:20260423T081804Z-1196230618-www.apocalyptica.com
URL:https://www.apocalyptica.com/dates/apocalyptica-dates-15-mar-2023-de-lu-20--671-.html
DTSTAMP:20260423T081804Z
DTSTART:20230315T180000Z
DTEND:20230315T180000Z
SUMMARY:APOCALYPTICA | Dates | 15 Mar 2023 (DE) Ludwigsburg\, MHP Arena
DESCRIPTION:The Epic Apocalypse Tour
LOCATION:MHP Arena\, Ludwigsburg\, Germany
END:VEVENT
END:VCALENDAR
