BEGIN:VCALENDAR
VERSION:2.0
PRODID:-//Apocalyptica//NONSGML Apocalyptica//EN
METHOD:PUBLISH
BEGIN:VEVENT
UID:20260423T081801Z-603673749-www.apocalyptica.com
URL:https://www.apocalyptica.com/dates/apocalyptica-dates-21-apr-2022-ca-va-20--675-.html
DTSTAMP:20260423T081801Z
DTSTART:20220421T180000Z
DTEND:20220421T180000Z
SUMMARY:APOCALYPTICA | Dates | 21 Apr 2022 (CA) Vancouver\, BC\, Commodore Ballroom
DESCRIPTION:For tickets and more Apocalyptica-dates check https://www.apocalyptica.com/dates/
LOCATION:Commodore Ballroom\, Vancouver\, BC\, Canada
END:VEVENT
END:VCALENDAR
