BEGIN:VCALENDAR
VERSION:2.0
PRODID:-//Apocalyptica//NONSGML Apocalyptica//EN
METHOD:PUBLISH
BEGIN:VEVENT
UID:20260423T081632Z-1655085151-www.apocalyptica.com
URL:https://www.apocalyptica.com/dates/apocalyptica-dates-01-feb-2023-gb-no-20--680-.html
DTSTAMP:20260423T081632Z
DTSTART:20230201T180000Z
DTEND:20230201T180000Z
SUMMARY:APOCALYPTICA | Dates | 01 Feb 2023 (GB) Nottingham\, RockCity
DESCRIPTION:For tickets and more Apocalyptica-dates check https://www.apocalyptica.com/dates/
LOCATION:RockCity\, Nottingham\, United Kingdom
END:VEVENT
END:VCALENDAR
