BEGIN:VCALENDAR
VERSION:2.0
PRODID:-//Apocalyptica//NONSGML Apocalyptica//EN
METHOD:PUBLISH
BEGIN:VEVENT
UID:20260423T081613Z-505454704-www.apocalyptica.com
URL:https://www.apocalyptica.com/dates/apocalyptica-dates-08-feb-2023-fr-to-20--681-.html
DTSTAMP:20260423T081613Z
DTSTART:20230208T180000Z
DTEND:20230208T180000Z
SUMMARY:APOCALYPTICA | Dates | 08 Feb 2023 (FR) Toulouse\, Le Bikini
DESCRIPTION:The Epic Apocalypse Tour
LOCATION:Le Bikini\, Toulouse\, France
END:VEVENT
END:VCALENDAR
