BEGIN:VCALENDAR
VERSION:2.0
PRODID:-//Apocalyptica//NONSGML Apocalyptica//EN
METHOD:PUBLISH
BEGIN:VEVENT
UID:20260423T081804Z-893934342-www.apocalyptica.com
URL:https://www.apocalyptica.com/dates/apocalyptica-dates-30-31-jul-2021-fi-20--682-.html
DTSTAMP:20260423T081804Z
DTSTART:20210730T180000Z
DTEND:20210731T180000Z
SUMMARY:APOCALYPTICA | Dates | 30-31 Jul 2021 (FI) Vaasa\, Kokkolan Viinijuhlat
DESCRIPTION:For tickets and more Apocalyptica-dates check https://www.apocalyptica.com/dates/
LOCATION:Kokkolan Viinijuhlat\, Vaasa\, Finland
END:VEVENT
END:VCALENDAR
