BEGIN:VCALENDAR
VERSION:2.0
PRODID:-//Apocalyptica//NONSGML Apocalyptica//EN
METHOD:PUBLISH
BEGIN:VEVENT
UID:20260423T081631Z-1095767177-www.apocalyptica.com
URL:https://www.apocalyptica.com/dates/apocalyptica-dates-31-aug-2022-ro-cl-20--683-.html
DTSTAMP:20260423T081631Z
DTSTART:20220831T180000Z
DTEND:20220831T180000Z
SUMMARY:APOCALYPTICA | Dates | 31 Aug 2022 (RO) Cluj-Napoca\, Form Space
DESCRIPTION:For tickets and more Apocalyptica-dates check https://www.apocalyptica.com/dates/
LOCATION:Form Space\, Cluj-Napoca\, Romania
END:VEVENT
END:VCALENDAR
