BEGIN:VCALENDAR
VERSION:2.0
PRODID:-//Apocalyptica//NONSGML Apocalyptica//EN
METHOD:PUBLISH
BEGIN:VEVENT
UID:20260423T081912Z-89279157-www.apocalyptica.com
URL:https://www.apocalyptica.com/dates/apocalyptica-dates-01-sep-2022-ro-bu-20--684-.html
DTSTAMP:20260423T081912Z
DTSTART:20220901T180000Z
DTEND:20220901T180000Z
SUMMARY:APOCALYPTICA | Dates | 01 Sep 2022 (RO) Bucharest\, Arnele Romane
DESCRIPTION:For tickets and more Apocalyptica-dates check https://www.apocalyptica.com/dates/
LOCATION:Arnele Romane\, Bucharest\, Romania
END:VEVENT
END:VCALENDAR
