BEGIN:VCALENDAR
VERSION:2.0
PRODID:-//Apocalyptica//NONSGML Apocalyptica//EN
METHOD:PUBLISH
BEGIN:VEVENT
UID:20260423T081654Z-94921078-www.apocalyptica.com
URL:https://www.apocalyptica.com/dates/apocalyptica-dates-07-aug-2021-fi-li-20--689-.html
DTSTAMP:20260423T081654Z
DTSTART:20210807T180000Z
DTEND:20210807T180000Z
SUMMARY:APOCALYPTICA | Dates | 07 Aug 2021 (FI) Lieto\, Smuggler Rock 2021
DESCRIPTION:For tickets and more Apocalyptica-dates check https://www.apocalyptica.com/dates/
LOCATION:Smuggler Rock 2021\, Lieto\, Finland
END:VEVENT
END:VCALENDAR
