BEGIN:VCALENDAR
VERSION:2.0
PRODID:-//Apocalyptica//NONSGML Apocalyptica//EN
METHOD:PUBLISH
BEGIN:VEVENT
UID:20260423T081756Z-957277569-www.apocalyptica.com
URL:https://www.apocalyptica.com/dates/apocalyptica-dates-15-nov-2021-fi-la-20--690-.html
DTSTAMP:20260423T081756Z
DTSTART:20211115T180000Z
DTEND:20211115T180000Z
SUMMARY:APOCALYPTICA | Dates | 15 Nov 2021 (FI) Lappeenranta\, Lappeen Marian kirkko
DESCRIPTION:For tickets and more Apocalyptica-dates check https://www.apocalyptica.com/dates/
LOCATION:Lappeen Marian kirkko\, Lappeenranta\, Finland
END:VEVENT
END:VCALENDAR
