BEGIN:VCALENDAR
VERSION:2.0
PRODID:-//Apocalyptica//NONSGML Apocalyptica//EN
METHOD:PUBLISH
BEGIN:VEVENT
UID:20260423T081655Z-1433497143-www.apocalyptica.com
URL:https://www.apocalyptica.com/dates/apocalyptica-dates-16-nov-2021-fi-ku-20--691-.html
DTSTAMP:20260423T081655Z
DTSTART:20211116T180000Z
DTEND:20211116T180000Z
SUMMARY:APOCALYPTICA | Dates | 16 Nov 2021 (FI) Kuopio\, Kuopion tuomiokirkko
DESCRIPTION:For tickets and more Apocalyptica-dates check https://www.apocalyptica.com/dates/
LOCATION:Kuopion tuomiokirkko\, Kuopio\, Finland
END:VEVENT
END:VCALENDAR
