BEGIN:VCALENDAR
VERSION:2.0
PRODID:-//Apocalyptica//NONSGML Apocalyptica//EN
METHOD:PUBLISH
BEGIN:VEVENT
UID:20260423T081757Z-151813242-www.apocalyptica.com
URL:https://www.apocalyptica.com/dates/apocalyptica-dates-17-nov-2021-fi-jo-20--692-.html
DTSTAMP:20260423T081757Z
DTSTART:20211117T180000Z
DTEND:20211117T180000Z
SUMMARY:APOCALYPTICA | Dates | 17 Nov 2021 (FI) Joensuu\, Joensuun kirkko
DESCRIPTION:For tickets and more Apocalyptica-dates check https://www.apocalyptica.com/dates/
LOCATION:Joensuun kirkko\, Joensuu\, Finland
END:VEVENT
END:VCALENDAR
