BEGIN:VCALENDAR
VERSION:2.0
PRODID:-//Apocalyptica//NONSGML Apocalyptica//EN
METHOD:PUBLISH
BEGIN:VEVENT
UID:20260423T081803Z-1921997551-www.apocalyptica.com
URL:https://www.apocalyptica.com/dates/apocalyptica-dates-18-nov-2021-fi-ki-20--693-.html
DTSTAMP:20260423T081803Z
DTSTART:20211118T180000Z
DTEND:20211118T180000Z
SUMMARY:APOCALYPTICA | Dates | 18 Nov 2021 (FI) Kiteen\, Kiteen kirkko
DESCRIPTION:For tickets and more Apocalyptica-dates check https://www.apocalyptica.com/dates/
LOCATION:Kiteen kirkko\, Kiteen\, Finland
END:VEVENT
END:VCALENDAR
