BEGIN:VCALENDAR
VERSION:2.0
PRODID:-//Apocalyptica//NONSGML Apocalyptica//EN
METHOD:PUBLISH
BEGIN:VEVENT
UID:20260423T081630Z-531508426-www.apocalyptica.com
URL:https://www.apocalyptica.com/dates/apocalyptica-dates-19-nov-2021-fi-sa-20--694-.html
DTSTAMP:20260423T081630Z
DTSTART:20211119T180000Z
DTEND:20211119T180000Z
SUMMARY:APOCALYPTICA | Dates | 19 Nov 2021 (FI) Savonlinna\, Savonlinnan tuomiokirkko
DESCRIPTION:For tickets and more Apocalyptica-dates check https://www.apocalyptica.com/dates/
LOCATION:Savonlinnan tuomiokirkko\, Savonlinna\, Finland
END:VEVENT
END:VCALENDAR
