BEGIN:VCALENDAR
VERSION:2.0
PRODID:-//Apocalyptica//NONSGML Apocalyptica//EN
METHOD:PUBLISH
BEGIN:VEVENT
UID:20260423T081612Z-1023777194-www.apocalyptica.com
URL:https://www.apocalyptica.com/dates/apocalyptica-dates-21-nov-2021-fi-ou-20--696-.html
DTSTAMP:20260423T081612Z
DTSTART:20211121T000000Z
DTEND:20211121T000000Z
SUMMARY:APOCALYPTICA | Dates | 21 Nov 2021 (FI) Oulu\, Oulun tuomiokirkko
DESCRIPTION:For tickets and more Apocalyptica-dates check https://www.apocalyptica.com/dates/
LOCATION:Oulun tuomiokirkko\, Oulu\, Finland
END:VEVENT
END:VCALENDAR
