BEGIN:VCALENDAR
VERSION:2.0
PRODID:-//Apocalyptica//NONSGML Apocalyptica//EN
METHOD:PUBLISH
BEGIN:VEVENT
UID:20260423T081803Z-509182394-www.apocalyptica.com
URL:https://www.apocalyptica.com/dates/apocalyptica-dates-24-nov-2021-fi-ta-20--699-.html
DTSTAMP:20260423T081803Z
DTSTART:20211124T180000Z
DTEND:20211124T180000Z
SUMMARY:APOCALYPTICA | Dates | 24 Nov 2021 (FI) Tampere\, Tampereen Tuomikirkko
DESCRIPTION:For tickets and more Apocalyptica-dates check https://www.apocalyptica.com/dates/
LOCATION:Tampereen Tuomikirkko\, Tampere\, Finland
END:VEVENT
END:VCALENDAR
