BEGIN:VCALENDAR
VERSION:2.0
PRODID:-//Apocalyptica//NONSGML Apocalyptica//EN
METHOD:PUBLISH
BEGIN:VEVENT
UID:20260423T081612Z-513609994-www.apocalyptica.com
URL:https://www.apocalyptica.com/dates/apocalyptica-dates-27-nov-2021-fi-po-20--702-.html
DTSTAMP:20260423T081612Z
DTSTART:20211127T180000Z
DTEND:20211127T180000Z
SUMMARY:APOCALYPTICA | Dates | 27 Nov 2021 (FI) Porvoo\, Porvoon tuomiokirkko
DESCRIPTION:For tickets and more Apocalyptica-dates check https://www.apocalyptica.com/dates/
LOCATION:Porvoon tuomiokirkko\, Porvoo\, Finland
END:VEVENT
END:VCALENDAR
