BEGIN:VCALENDAR
VERSION:2.0
PRODID:-//Apocalyptica//NONSGML Apocalyptica//EN
METHOD:PUBLISH
BEGIN:VEVENT
UID:20260423T081559Z-1221454228-www.apocalyptica.com
URL:https://www.apocalyptica.com/dates/apocalyptica-dates-30-nov-2021-fi-va-20--703-.html
DTSTAMP:20260423T081559Z
DTSTART:20211130T180000Z
DTEND:20211130T180000Z
SUMMARY:APOCALYPTICA | Dates | 30 Nov 2021 (FI) Vantaa\, Pyhän Laurin kirkko
DESCRIPTION:For tickets and more Apocalyptica-dates check https://www.apocalyptica.com/dates/
LOCATION:Pyhän Laurin kirkko\, Vantaa\, Finland
END:VEVENT
END:VCALENDAR
