BEGIN:VCALENDAR
VERSION:2.0
PRODID:-//Apocalyptica//NONSGML Apocalyptica//EN
METHOD:PUBLISH
BEGIN:VEVENT
UID:20260423T081656Z-1647107589-www.apocalyptica.com
URL:https://www.apocalyptica.com/dates/apocalyptica-dates-01-dec-2021-fi-lo-20--704-.html
DTSTAMP:20260423T081656Z
DTSTART:20211201T180000Z
DTEND:20211201T180000Z
SUMMARY:APOCALYPTICA | Dates | 01 Dec 2021 (FI) Lohja\, Lohjan Pyhän Laurin kirkko
DESCRIPTION:For tickets and more Apocalyptica-dates check https://www.apocalyptica.com/dates/
LOCATION:Lohjan Pyhän Laurin kirkko\, Lohja\, Finland
END:VEVENT
END:VCALENDAR
