BEGIN:VCALENDAR
VERSION:2.0
PRODID:-//Apocalyptica//NONSGML Apocalyptica//EN
METHOD:PUBLISH
BEGIN:VEVENT
UID:20260423T081558Z-290750814-www.apocalyptica.com
URL:https://www.apocalyptica.com/dates/apocalyptica-dates-02-dec-2021-fi-ha-20--706-.html
DTSTAMP:20260423T081558Z
DTSTART:20211202T180000Z
DTEND:20211202T180000Z
SUMMARY:APOCALYPTICA | Dates | 02 Dec 2021 (FI) Hämeenlinna\, Hämeenlinnan kirkko
DESCRIPTION:For tickets and more Apocalyptica-dates check https://www.apocalyptica.com/dates/
LOCATION:Hämeenlinnan kirkko\, Hämeenlinna\, Finland
END:VEVENT
END:VCALENDAR
