BEGIN:VCALENDAR
VERSION:2.0
PRODID:-//Apocalyptica//NONSGML Apocalyptica//EN
METHOD:PUBLISH
BEGIN:VEVENT
UID:20260423T081630Z-841719617-www.apocalyptica.com
URL:https://www.apocalyptica.com/dates/apocalyptica-dates-11-apr-2022-us-da-20--709-.html
DTSTAMP:20260423T081630Z
DTSTART:20220411T000000Z
DTEND:20220411T000000Z
SUMMARY:APOCALYPTICA | Dates | 11 Apr 2022 (US) Dallas\, TX\, House Of Blues
DESCRIPTION:For tickets and more Apocalyptica-dates check https://www.apocalyptica.com/dates/
LOCATION:House Of Blues\, Dallas\, TX\, United States of America
END:VEVENT
END:VCALENDAR
