BEGIN:VCALENDAR
VERSION:2.0
PRODID:-//Apocalyptica//NONSGML Apocalyptica//EN
METHOD:PUBLISH
BEGIN:VEVENT
UID:20260423T081755Z-1234757775-www.apocalyptica.com
URL:https://www.apocalyptica.com/dates/apocalyptica-dates-28-apr-2022-us-de-20--710-.html
DTSTAMP:20260423T081755Z
DTSTART:20220428T180000Z
DTEND:20220428T180000Z
SUMMARY:APOCALYPTICA | Dates | 28 Apr 2022 (US) Detroit\, MI\, The Majestic Theatre
DESCRIPTION:For tickets and more Apocalyptica-dates check https://www.apocalyptica.com/dates/
LOCATION:The Majestic Theatre\, Detroit\, MI\, United States of America
END:VEVENT
END:VCALENDAR
