BEGIN:VCALENDAR
VERSION:2.0
PRODID:-//Apocalyptica//NONSGML Apocalyptica//EN
METHOD:PUBLISH
BEGIN:VEVENT
UID:20260423T081930Z-1815945532-www.apocalyptica.com
URL:https://www.apocalyptica.com/dates/apocalyptica-dates-24-jul-2021-fi-la-20--713-.html
DTSTAMP:20260423T081930Z
DTSTART:20210724T180000Z
DTEND:20210724T180000Z
SUMMARY:APOCALYPTICA | Dates | 24 Jul 2021 (FI) Lappeenranta\, Rock In The City
DESCRIPTION:For tickets and more Apocalyptica-dates check https://www.apocalyptica.com/dates/
LOCATION:Rock In The City\, Lappeenranta\, Finland
END:VEVENT
END:VCALENDAR
