BEGIN:VCALENDAR
VERSION:2.0
PRODID:-//Apocalyptica//NONSGML Apocalyptica//EN
METHOD:PUBLISH
BEGIN:VEVENT
UID:20260423T081756Z-1189015412-www.apocalyptica.com
URL:https://www.apocalyptica.com/dates/apocalyptica-dates-13-aug-2021-fi-jy-20--715-.html
DTSTAMP:20260423T081756Z
DTSTART:20210813T180000Z
DTEND:20210813T180000Z
SUMMARY:APOCALYPTICA | Dates | 13 Aug 2021 (FI) Jyväskylä\, Rock In The City
DESCRIPTION:For tickets and more Apocalyptica-dates check https://www.apocalyptica.com/dates/
LOCATION:Rock In The City\, Jyväskylä\, Finland
END:VEVENT
END:VCALENDAR
