BEGIN:VCALENDAR
VERSION:2.0
PRODID:-//Apocalyptica//NONSGML Apocalyptica//EN
METHOD:PUBLISH
BEGIN:VEVENT
UID:20260421T082733Z-1948796037-www.apocalyptica.com
URL:https://www.apocalyptica.com/dates/apocalyptica-dates-07-apr-2022-us-at-20--612-.html
DTSTAMP:20260421T082733Z
DTSTART:20220407T180000Z
DTEND:20220407T180000Z
SUMMARY:APOCALYPTICA | Dates | 07 Apr 2022 (US) Atlanta\, GA\, The Masquerade (Heaven)
DESCRIPTION:For tickets and more Apocalyptica-dates check https://www.apocalyptica.com/dates/
LOCATION:The Masquerade (Heaven)\, Atlanta\, GA\, United States of America
END:VEVENT
END:VCALENDAR
