BEGIN:VCALENDAR
VERSION:2.0
PRODID:-//Apocalyptica//NONSGML Apocalyptica//EN
METHOD:PUBLISH
BEGIN:VEVENT
UID:20260425T120338Z-2066882915-www.apocalyptica.com
URL:https://www.apocalyptica.com/dates/apocalyptica-dates-12-apr-2022-us-au-20--613-.html
DTSTAMP:20260425T120338Z
DTSTART:20220412T180000Z
DTEND:20220412T180000Z
SUMMARY:APOCALYPTICA | Dates | 12 Apr 2022 (US) Austin\, TX\, Emo's
DESCRIPTION:For tickets and more Apocalyptica-dates check https://www.apocalyptica.com/dates/
LOCATION:Emo's\, Austin\, TX\, United States of America
END:VEVENT
END:VCALENDAR
