BEGIN:VCALENDAR
VERSION:2.0
PRODID:-//Apocalyptica//NONSGML Apocalyptica//EN
METHOD:PUBLISH
BEGIN:VEVENT
UID:20260421T085016Z-1914037204-www.apocalyptica.com
URL:https://www.apocalyptica.com/dates/apocalyptica-dates-18-apr-2022-us-po-20--619-.html
DTSTAMP:20260421T085016Z
DTSTART:20220418T180000Z
DTEND:20220418T180000Z
SUMMARY:APOCALYPTICA | Dates | 18 Apr 2022 (US) Portland\, OR\, Crystal Ballroom
DESCRIPTION:For tickets and more Apocalyptica-dates check https://www.apocalyptica.com/dates/
LOCATION:Crystal Ballroom\, Portland\, OR\, United States of America
END:VEVENT
END:VCALENDAR
