BEGIN:VCALENDAR
VERSION:2.0
PRODID:-//Apocalyptica//NONSGML Apocalyptica//EN
METHOD:PUBLISH
BEGIN:VEVENT
UID:20260421T082653Z-182785080-www.apocalyptica.com
URL:https://www.apocalyptica.com/dates/apocalyptica-dates-27-apr-2022-us-ch-20--625-.html
DTSTAMP:20260421T082653Z
DTSTART:20220427T180000Z
DTEND:20220427T180000Z
SUMMARY:APOCALYPTICA | Dates | 27 Apr 2022 (US) Chicago\, IL\, House Of Blues
DESCRIPTION:For tickets and more Apocalyptica-dates check https://www.apocalyptica.com/dates/
LOCATION:House Of Blues\, Chicago\, IL\, United States of America
END:VEVENT
END:VCALENDAR
