BEGIN:VCALENDAR
VERSION:2.0
PRODID:-//Apocalyptica//NONSGML Apocalyptica//EN
METHOD:PUBLISH
BEGIN:VEVENT
UID:20260419T214844Z-625867936-www.apocalyptica.com
URL:https://www.apocalyptica.com/dates/apocalyptica-dates-04-may-2022-ca-mo-20--627-.html
DTSTAMP:20260419T214844Z
DTSTART:20220504T180000Z
DTEND:20220504T180000Z
SUMMARY:APOCALYPTICA | Dates | 04 May 2022 (CA) Montreal\, QC\, MTleus
DESCRIPTION:For tickets and more Apocalyptica-dates check https://www.apocalyptica.com/dates/
LOCATION:MTleus\, Montreal\, QC\, Canada
END:VEVENT
END:VCALENDAR
