BEGIN:VCALENDAR
VERSION:2.0
PRODID:-//Apocalyptica//NONSGML Apocalyptica//EN
METHOD:PUBLISH
BEGIN:VEVENT
UID:20260420T203415Z-1632537510-www.apocalyptica.com
URL:https://www.apocalyptica.com/dates/apocalyptica-dates-24-mar-2023-cz-br-20--639-.html
DTSTAMP:20260420T203415Z
DTSTART:20230324T180000Z
DTEND:20230324T180000Z
SUMMARY:APOCALYPTICA | Dates | 24 Mar 2023 (CZ) Brno\, Hala Vodova
DESCRIPTION:For tickets and more Apocalyptica-dates check https://www.apocalyptica.com/dates/
LOCATION:Hala Vodova\, Brno\, Czech Republic
END:VEVENT
END:VCALENDAR
