BEGIN:VCALENDAR
VERSION:2.0
PRODID:-//Apocalyptica//NONSGML Apocalyptica//EN
METHOD:PUBLISH
BEGIN:VEVENT
UID:20260420T203051Z-1902208641-www.apocalyptica.com
URL:https://www.apocalyptica.com/dates/apocalyptica-dates-25-mar-2023-pl-wa-20--657-.html
DTSTAMP:20260420T203051Z
DTSTART:20230325T180000Z
DTEND:20230325T180000Z
SUMMARY:APOCALYPTICA | Dates | 25 Mar 2023 (PL) Warsaw\, Progresja
DESCRIPTION:The Epic Apocalypse Tour
LOCATION:Progresja\, Warsaw\, Poland
END:VEVENT
END:VCALENDAR
