BEGIN:VCALENDAR
VERSION:2.0
PRODID:-//Apocalyptica//NONSGML Apocalyptica//EN
METHOD:PUBLISH
BEGIN:VEVENT
UID:20260421T083945Z-1202204319-www.apocalyptica.com
URL:https://www.apocalyptica.com/dates/apocalyptica-dates-10-sep-2022-us-da-20--728-.html
DTSTAMP:20260421T083945Z
DTSTART:20220910T180000Z
DTEND:20220910T180000Z
SUMMARY:APOCALYPTICA | Dates | 10 Sep 2022 (US) Danville\, VA\, Blue Ridge Rock Festival
DESCRIPTION:For tickets and more Apocalyptica-dates check https://www.apocalyptica.com/dates/
LOCATION:Blue Ridge Rock Festival\, Danville\, VA\, United States of America
END:VEVENT
END:VCALENDAR
