BEGIN:VCALENDAR
VERSION:2.0
PRODID:-//Apocalyptica//NONSGML Apocalyptica//EN
METHOD:PUBLISH
BEGIN:VEVENT
UID:20260421T214707Z-1922014325-www.apocalyptica.com
URL:https://www.apocalyptica.com/dates/apocalyptica-dates-09-sep-2022-us-ba-20--734-.html
DTSTAMP:20260421T214707Z
DTSTART:20220909T180000Z
DTEND:20220909T180000Z
SUMMARY:APOCALYPTICA | Dates | 09 Sep 2022 (US) Baltimore\, MD\, Baltimore Soundstage
DESCRIPTION:For tickets and more Apocalyptica-dates check https://www.apocalyptica.com/dates/
LOCATION:Baltimore Soundstage\, Baltimore\, MD\, United States of America
END:VEVENT
END:VCALENDAR
