BEGIN:VCALENDAR
VERSION:2.0
PRODID:-//Apocalyptica//NONSGML Apocalyptica//EN
METHOD:PUBLISH
BEGIN:VEVENT
UID:20260421T144835Z-164761065-www.apocalyptica.com
URL:https://www.apocalyptica.com/dates/apocalyptica-dates-17-sep-2022-us-bu-20--739-.html
DTSTAMP:20260421T144835Z
DTSTART:20220917T180000Z
DTEND:20220917T180000Z
SUMMARY:APOCALYPTICA | Dates | 17 Sep 2022 (US) Buffalo\, NY\, Town Ballroom
DESCRIPTION:For tickets and more Apocalyptica-dates check https://www.apocalyptica.com/dates/
LOCATION:Town Ballroom\, Buffalo\, NY\, United States of America
END:VEVENT
END:VCALENDAR
