BEGIN:VCALENDAR
VERSION:2.0
PRODID:-//Apocalyptica//NONSGML Apocalyptica//EN
METHOD:PUBLISH
BEGIN:VEVENT
UID:20260423T165657Z-379157595-www.apocalyptica.com
URL:https://www.apocalyptica.com/dates/apocalyptica-dates-25-sep-2022-us-mi-20--745-.html
DTSTAMP:20260423T165657Z
DTSTART:20220925T180000Z
DTEND:20220925T180000Z
SUMMARY:APOCALYPTICA | Dates | 25 Sep 2022 (US) Milwaukee\, WI\, The Rave / Eagles Club
DESCRIPTION:For tickets and more Apocalyptica-dates check https://www.apocalyptica.com/dates/
LOCATION:The Rave / Eagles Club\, Milwaukee\, WI\, United States of America
END:VEVENT
END:VCALENDAR
