BEGIN:VCALENDAR
VERSION:2.0
PRODID:-//Apocalyptica//NONSGML Apocalyptica//EN
METHOD:PUBLISH
BEGIN:VEVENT
UID:20260422T035919Z-127892531-www.apocalyptica.com
URL:https://www.apocalyptica.com/dates/apocalyptica-dates-02-oct-2022-us-sa-20--751-.html
DTSTAMP:20260422T035919Z
DTSTART:20221002T180000Z
DTEND:20221002T180000Z
SUMMARY:APOCALYPTICA | Dates | 02 Oct 2022 (US) Santa Ana\, CA\, The Observatory
DESCRIPTION:For tickets and more Apocalyptica-dates check https://www.apocalyptica.com/dates/
LOCATION:The Observatory\, Santa Ana\, CA\, United States of America
END:VEVENT
END:VCALENDAR
